BEGIN:VCALENDAR
VERSION:2.0
PRODID:-//SCAPA FOAS - ECPv6.15.12.2//NONSGML v1.0//EN
CALSCALE:GREGORIAN
METHOD:PUBLISH
X-WR-CALNAME:SCAPA FOAS
X-ORIGINAL-URL:https://scapafriends.org
X-WR-CALDESC:Events for SCAPA FOAS
REFRESH-INTERVAL;VALUE=DURATION:PT1H
X-Robots-Tag:noindex
X-PUBLISHED-TTL:PT1H
BEGIN:VTIMEZONE
TZID:America/New_York
BEGIN:DAYLIGHT
TZOFFSETFROM:-0500
TZOFFSETTO:-0400
TZNAME:EDT
DTSTART:20250309T070000
END:DAYLIGHT
BEGIN:STANDARD
TZOFFSETFROM:-0400
TZOFFSETTO:-0500
TZNAME:EST
DTSTART:20251102T060000
END:STANDARD
BEGIN:DAYLIGHT
TZOFFSETFROM:-0500
TZOFFSETTO:-0400
TZNAME:EDT
DTSTART:20260308T070000
END:DAYLIGHT
BEGIN:STANDARD
TZOFFSETFROM:-0400
TZOFFSETTO:-0500
TZNAME:EST
DTSTART:20261101T060000
END:STANDARD
BEGIN:DAYLIGHT
TZOFFSETFROM:-0500
TZOFFSETTO:-0400
TZNAME:EDT
DTSTART:20270314T070000
END:DAYLIGHT
BEGIN:STANDARD
TZOFFSETFROM:-0400
TZOFFSETTO:-0500
TZNAME:EST
DTSTART:20271107T060000
END:STANDARD
END:VTIMEZONE
BEGIN:VEVENT
DTSTART;TZID=America/New_York:20260512T183000
DTEND;TZID=America/New_York:20260512T183000
DTSTAMP:20260423T185555
CREATED:20250629T234401Z
LAST-MODIFIED:20250630T003820Z
UID:4846-1778610600-1778610600@scapafriends.org
SUMMARY:FOAS Meeting - May 2026
DESCRIPTION:Please join us for FOAS’s last general meeting of the school year! We will be electing the new slate of officers & board members for next school year! All parents\, teachers\, staff\, and SCAPA friends welcome. Join us in person in the library at SCAPA Bluegrass or virtually via Zoom.
URL:https://scapafriends.org/event/foas-meeting-may-2026/
LOCATION:SCAPA Library
ATTACH;FMTTYPE=image/jpeg:https://scapafriends.org/wp-content/uploads/2025/04/school-meeting.jpg
END:VEVENT
END:VCALENDAR